BEGIN:VCALENDAR
VERSION:2.0
PRODID:-//chill - ECPv5.6.0//NONSGML v1.0//EN
CALSCALE:GREGORIAN
METHOD:PUBLISH
X-WR-CALNAME:chill
X-ORIGINAL-URL:https://chilljyo.jp
X-WR-CALDESC:chill のイベント
BEGIN:VTIMEZONE
TZID:Asia/Tokyo
BEGIN:STANDARD
TZOFFSETFROM:+0900
TZOFFSETTO:+0900
TZNAME:JST
DTSTART:20220101T000000
END:STANDARD
END:VTIMEZONE
BEGIN:VEVENT
DTSTART;TZID=Asia/Tokyo:20220506T113000
DTEND;TZID=Asia/Tokyo:20240506T153000
DTSTAMP:20260424T223706
CREATED:20220428T113230Z
LAST-MODIFIED:20220428T113306Z
UID:9043-1651836600-1715009400@chilljyo.jp
SUMMARY:予約可能-2
DESCRIPTION:
URL:https://chilljyo.jp/event/%e4%ba%88%e7%b4%84%e5%8f%af%e8%83%bd-2/
CATEGORIES:ソラノシタテラス
END:VEVENT
BEGIN:VEVENT
DTSTART;TZID=Asia/Tokyo:20230528T100000
DTEND;TZID=Asia/Tokyo:20230528T110000
DTSTAMP:20260424T223706
CREATED:20230511T064715Z
LAST-MODIFIED:20230511T101700Z
UID:9088-1685268000-1685271600@chilljyo.jp
SUMMARY:【SCHOOL X第16弾！】ハンディがあってもなくても 楽しく踊ろう♪
DESCRIPTION:【SCHOOL X第16弾】\n《ハンディがあってもなくても\n楽しく踊ろう♪》 \nSCHOOL Xとは…\n誰もが気軽に受けられるCHILLにある学校\n単位や受講資格などはなく、大人でも子供でも、誰もが受けたい授業に申し込む事が出来ます！ \n＝＝＝\n【第16弾！】ハンディキャップがあってもなくても楽しく踊ろう！ \nハンディキャップがある人ない人かかわらず、みんなで一緒に踊るワークショップです。\nCHILLの屋上の芝生やウッドデッキの上で、太陽と風を感じながら、自由に楽しく踊りましょう！\n肩肘張らずに…..　自由に楽しく。やめたくなったらやらなくていいし、ただの見学もOK。\n（見学してたら体がウズウズして踊っちゃうかも！）\nオンラインも同時開催するので、自宅からでもOKです。 \nダウン症や自閉症を持ったダンサー、サニーフラワーダンサーズも参加♪\nそんな彼らを教えているダンススタジオ《サニーフラワーダンス》の講師、\nきはらあきらさん、しばたいづみさんがきてくれます！ \n【日時】\n5/28(日)10:00〜11:00 \n【場所】\nCHILL 屋上\n(雨天時　3階ラウンジ) \n【講師】\nプロダンサー\nきはらあきら\nしばたいづみ\nサニーフラワーダンサーズ \n【対象】\nどなたでも♪\nオンラインもやります！ \n【参加費】\n無料 \n【定員】\n15人\n(オンラインの場合は定員なし♪) \n【お申込み】\nCHILL公式LINE ( @653smhdn )で以下をお伝えください。 \n◎件名【ハンディがあってもなくても楽しく踊ろう！】\n◎来場希望・見学希望・オンラインのどれかをお知らせください\n◎代表者のお名前とご年齢\n◎ご参加者のお名前とご年齢\n◎ご連絡先 \n【持ち物】\nうごきやすい靴と服、飲み物、タオル\n(更衣室はありません) \n※注意事項\nWS中のケガや器物破損については責任を負いかねます。\nもちろん運営者では最大限注意を払って行いますが、万が一怪我をしてしまった場合は自己責任とさせていただきますので、ご理解の上ご参加くださいます様お願い致します。 \n———————— \n【SCHOOL Xとは…？】\n誰もが気軽に受けられる、CHILLにある学校です。\n単位や受講資格などはなく、大人でも子供でも、誰もが受けたい授業に申し込む事が出来ます。\nCHILLのテーマである”食とアートと音と映像”のコンテンツに関わる方が沢山おります。\nそういった方々が、自分の生活が少しだけ豊かになれるように。という視点で授業を行いますので、一般的な授業の様な座学とは少し異なります。\n受講する方によって、持って帰る経験値や知識や考え方がバラバラでも様々でも、良いと思っています。\nSCHOOL XのXは、そう言った意味から来ています。\nCHILLに来てくれる方々の生活が、少しでも豊かになって欲しいと願って、この学校を開校することにしました。 \n◎CHILL店舗情報\n営業時間：\n11:30-17:00 \n住所：\n〒211-0044 神奈川県川崎市中原区新城5-7-12 \nアクセス：\nJR南武線「武蔵新城」駅より徒歩5分 \nお問い合わせ：\nCHILL 公式LINE( ID：653smhdn )
URL:https://chilljyo.jp/event/%e3%80%90school-x%e7%ac%ac16%e5%bc%be%ef%bc%81%e3%80%91%e3%83%8f%e3%83%b3%e3%83%87%e3%82%a3%e3%81%8c%e3%81%82%e3%81%a3%e3%81%a6%e3%82%82%e3%81%aa%e3%81%8f%e3%81%a6%e3%82%82-%e6%a5%bd%e3%81%97%e3%81%8f/
CATEGORIES:SCHOOLX
ATTACH;FMTTYPE=image/jpeg:https://chilljyo.jp/wp-content/uploads/2023/05/IMG_3419.jpeg
END:VEVENT
END:VCALENDAR