BEGIN:VCALENDAR
VERSION:2.0
PRODID:-//chill - ECPv5.6.0//NONSGML v1.0//EN
CALSCALE:GREGORIAN
METHOD:PUBLISH
X-WR-CALNAME:chill
X-ORIGINAL-URL:https://chilljyo.jp
X-WR-CALDESC:chill のイベント
BEGIN:VTIMEZONE
TZID:Asia/Tokyo
BEGIN:STANDARD
TZOFFSETFROM:+0900
TZOFFSETTO:+0900
TZNAME:JST
DTSTART:20220101T000000
END:STANDARD
END:VTIMEZONE
BEGIN:VEVENT
DTSTART;TZID=Asia/Tokyo:20220307T120000
DTEND;TZID=Asia/Tokyo:20220307T150000
DTSTAMP:20260425T235647
CREATED:20211104T090936Z
LAST-MODIFIED:20220214T094332Z
UID:7987-1646654400-1646665200@chilljyo.jp
SUMMARY:パティスリージュリ
DESCRIPTION:日曜11:30-16:00\n月曜11:30-15:00
URL:https://chilljyo.jp/event/%e3%83%91%e3%83%86%e3%82%a3%e3%82%b9%e3%83%aa%e3%83%bc%e3%82%b8%e3%83%a5%e3%83%aa-2/2022-03-07/
CATEGORIES:シェフカレンダー
ATTACH;FMTTYPE=image/jpeg:https://chilljyo.jp/wp-content/uploads/2021/11/julie_クレームダンジュ2.jpg
END:VEVENT
END:VCALENDAR