BEGIN:VCALENDAR
VERSION:2.0
PRODID:-//chill - ECPv5.6.0//NONSGML v1.0//EN
CALSCALE:GREGORIAN
METHOD:PUBLISH
X-WR-CALNAME:chill
X-ORIGINAL-URL:https://chilljyo.jp
X-WR-CALDESC:chill のイベント
BEGIN:VTIMEZONE
TZID:Asia/Tokyo
BEGIN:STANDARD
TZOFFSETFROM:+0900
TZOFFSETTO:+0900
TZNAME:JST
DTSTART:20220101T000000
END:STANDARD
END:VTIMEZONE
BEGIN:VEVENT
DTSTART;TZID=Asia/Tokyo:20220119T160000
DTEND;TZID=Asia/Tokyo:20220119T180000
DTSTAMP:20260426T033039
CREATED:20211219T073919Z
LAST-MODIFIED:20211230T112155Z
UID:7006-1642608000-1642615200@chilljyo.jp
SUMMARY:はじめての包丁～カフェハット子どもお料理教室～
DESCRIPTION:SCHOOL X 第4弾！「はじめての包丁　カフェハット子どもお料理教室」 \n  \nCHILLにてイタリアンのお店を経営している Cafe Hat オーナーの出塚シェフ・町田シェフによる1DAYスクールです。\nまだ包丁を握った事がないお子さん、お料理をはじめたばかりのお子さん、どなたでも参加いただけます。 \n包丁で切ることをメインに体験していただきます。\n作ったお料理は、最後にお父さんお母さんに振舞ってもらいます。 \n  \n【日時】\n1月19日(水)16:00-18:00（17:30～試食） \n  \n【講師】 \n\n \n出塚祐司（カフェハットオーナー） \n\n\n \n町田悠輔（カフェハットリラッサート店長） \n\n  \n  \n【対象】\n小学校1年生以上\n保護者・ご兄弟ご姉妹の見学も可能です。\n（1人に対して最大3名。人数が多い場合は入れ替わりで見学いただきます。） \n  \n【参加費】 \n1000円 \n  \n【メニュー】 \n彩り野菜のシーザーサラダ\nチーズたっぷりピザトースト \n・カフェハットのドレッシング、トマトソースを使用します。\n・試食の際には、１グループに１つドリアをご用意いたします \n  \n【お申込み】\nCHILL公式LINE ( @373ytdgr )で以下をお伝えください。 \n◎保護者のお名前\n◎ご希望のスクール名（今回のスクールは「はじめての包丁」です）\n◎ご参加人数（＝参加されるお子様の人数と、見学される方、食事をされる方の人数をそれぞれお知らせください）\n◎お子様のお名前・ふりがな・学年 \n【持ち物】\nエプロン、三角巾、タオル、マスク \n  \n【注意事項】\n包丁を使うので、怪我をする可能性があります。\n危ない行為を避けながら育っていくのではなく、包丁を危ないと認識しながらきちんと使える様になってほしいと願って、開催します。\nもちろん運営者では最大限注意を払って行いますが、万が一怪我をしてしまった場合は自己責任とさせていただきますので、ご理解の上ご参加くださいます様お願い致します。 \n  \n【場所】\nCHILL 3F（フードラウンジ）\nGOOD NEIGHBORS KITCHEN（シェアキッチン ） \n  \n【感染症対策について】\n会場スタッフは手指消毒、体温測定、マスクの着用、会場の換気など感染症対策をしてお待ちしております。\n当日は入口での手指消毒、体温測定にご協力ください。\nなお、前日までの1週間の間に以下の症状がある方は、参加をお控えいただく場合がございます。ご遠慮なくお申し出くださいませ。\n・37.5度以上の発熱があった場合\n・咳をしていたり、倦怠感、味覚障害を少しでも感じた場合 \n・新型コロナウイルス感染症の影響を鑑みて、中止・延期する場合があります。 \n 
URL:https://chilljyo.jp/event/%e3%81%af%e3%81%98%e3%82%81%e3%81%a6%e3%81%ae%e5%8c%85%e4%b8%81%ef%bd%9e%e3%82%ab%e3%83%95%e3%82%a7%e3%83%8f%e3%83%83%e3%83%88%e5%ad%90%e3%81%a9%e3%82%82%e3%81%8a%e6%96%99%e7%90%86%e6%95%99%e5%ae%a4/
CATEGORIES:SCHOOLX
ATTACH;FMTTYPE=image/jpeg:https://chilljyo.jp/wp-content/uploads/2021/08/cafehat02-e1535605166912-2.jpg
END:VEVENT
END:VCALENDAR