BEGIN:VCALENDAR
VERSION:2.0
PRODID:-//chill - ECPv5.6.0//NONSGML v1.0//EN
CALSCALE:GREGORIAN
METHOD:PUBLISH
X-WR-CALNAME:chill
X-ORIGINAL-URL:https://chilljyo.jp
X-WR-CALDESC:chill のイベント
BEGIN:VTIMEZONE
TZID:Asia/Tokyo
BEGIN:STANDARD
TZOFFSETFROM:+0900
TZOFFSETTO:+0900
TZNAME:JST
DTSTART:20220101T000000
END:STANDARD
END:VTIMEZONE
BEGIN:VEVENT
DTSTART;TZID=Asia/Tokyo:20220105T113000
DTEND;TZID=Asia/Tokyo:20220105T150000
DTSTAMP:20260426T033031
CREATED:20211116T002320Z
LAST-MODIFIED:20220215T034818Z
UID:8073-1641382200-1641394800@chilljyo.jp
SUMMARY:cafe hat rilassato
DESCRIPTION:月～土　ランチタイム11:30-15:00（L.O15:00）\n火～土　ディナータイム　17:00-21:00（L.O20:00）\n日曜定休
URL:https://chilljyo.jp/event/cafe-hat-rilassato-2/2022-01-05/
CATEGORIES:シェフカレンダー
ATTACH;FMTTYPE=image/jpeg:https://chilljyo.jp/wp-content/uploads/2021/05/133570805_426533781720750_4783179749788469449_n.jpg
END:VEVENT
END:VCALENDAR