BEGIN:VCALENDAR
VERSION:2.0
PRODID:-//chill - ECPv5.6.0//NONSGML v1.0//EN
CALSCALE:GREGORIAN
METHOD:PUBLISH
X-WR-CALNAME:chill
X-ORIGINAL-URL:https://chilljyo.jp
X-WR-CALDESC:chill のイベント
BEGIN:VTIMEZONE
TZID:Asia/Tokyo
BEGIN:STANDARD
TZOFFSETFROM:+0900
TZOFFSETTO:+0900
TZNAME:JST
DTSTART:20210101T000000
END:STANDARD
END:VTIMEZONE
BEGIN:VEVENT
DTSTART;TZID=Asia/Tokyo:20211022T170000
DTEND;TZID=Asia/Tokyo:20211022T183000
DTSTAMP:20260426T084413
CREATED:20210929T025836Z
LAST-MODIFIED:20210929T025836Z
UID:7153-1634922000-1634927400@chilljyo.jp
SUMMARY:【SCHOOL X第7弾】ハロウィンケーキ＆ミニパフェをつくろう
DESCRIPTION:SCHOOL X 第7弾！「ハロウィンケーキ＆ミニパフェをつくろう」 \n  \n \n  \nHappy Halloween！\nバタークリームを手作りしてハロウィンデコレーションを楽しみましょう♪ \nCHILLの焼き菓子店Bake Shop Fuu店主による1DAYレッスンです。 \n【日時】\n10月22日(金)17:00-18:30 \n【講師】\nハシヅメチヒロ（Bake Shop Fuu） \n  \n  \n  \n  \n \n【対象】\n小学1年生以上。\n小4以上の場合、お1人でのご参加も可\n大人の方のみのご参加も大歓迎です。\n（小3以下の方は保護者の方とご一緒にご受講ください。） \n  \n【定員】 \n6名 \n  \n【参加費】 \n無料 \n【材料費】\n1\,000円\n（材料費、箱代） \n【内容】\nハロウィンケーキ　1台（直径10cm）\nミニパフェ　1つ\n特定原材料等：小麦・卵・乳 \n  \nかぼちゃのバタークリームを作り、あらかじめ焼いておいたケーキにデコレーションをしていただきます。\nお好きなデザインでおつくりいただけます。 \nクリームの塗り方、お家でデコレーションするときのコツをレクチャーします。\nケーキはかわいい箱に入れてお持ち帰りいただきます。 \nケーキを冷やしている間にミニパフェを作って試食タイム♪ \n  \n【お申込み】\nCHILLのinstagramへDM（@chill______chill）、またはCHILL公式LINE ( @373ytdgr )で以下をお伝えください。 \n◎保護者のお名前\n◎お電話番号\n◎ご希望のスクール名（今回のスクールは「ハロウィンケーキ」です）\n◎ご参加人数（親子参加の場合、作りたい数をお知らせください）\n◎お子様のお名前・ふりがな・学年 \n【持ち物】\nマスク、エプロン、汚れても良いミニタオル（手に付いたバタークリームを拭きます） \n【場所】\nCHILL 3F（フードラウンジ） \n  \n【感染症対策について】\n会場スタッフは手指消毒、体温測定、マスクの着用、会場の換気など感染症対策をしてお待ちしております。\n当日は入口での手指消毒、体温測定にご協力ください。\nなお、前日までの1週間の間に以下の症状がある方は、参加をお控えいただく場合がございます。ご遠慮なくお申し出くださいませ。\n・37.5度以上の発熱があった場合\n・咳をしていたり、倦怠感、味覚障害を少しでも感じた場合 \n・新型コロナウイルス感染症の影響を鑑みて、中止・延期する場合があります。 \n  \n  \n【SCHOOL Xとは…？】 \n誰もが気軽に受けられる、CHILLにある学校です。\n単位や受講資格などはなく、大人でも子供でも、誰もが受けたい授業に申し込む事が出来ます。\nCHILLのテーマである”食とアートと音と映像”のコンテンツに関わる方が沢山おります。\nそういった方々が、自分の生活が少しだけ豊かになれるように。という視点で授業を行いますので、一般的な授業の様な座学とは少し異なります。 \n受講する方によって、持って帰る経験値や知識や考え方がバラバラでも様々でも、良いと思っています。\nSCHOOL XのXは、そう言った意味から来ています。\nCHILLに来てくれる方々の生活が、少しでも豊かになって欲しいと願って、この学校を開校することにしました。
URL:https://chilljyo.jp/event/%e3%80%90school-x%e7%ac%ac7%e5%bc%be%e3%80%91%e3%83%8f%e3%83%ad%e3%82%a6%e3%82%a3%e3%83%b3%e3%82%b1%e3%83%bc%e3%82%ad%ef%bc%86%e3%83%9f%e3%83%8b%e3%83%91%e3%83%95%e3%82%a7%e3%82%92%e3%81%a4%e3%81%8f/
CATEGORIES:SCHOOLX
END:VEVENT
END:VCALENDAR