BEGIN:VCALENDAR
VERSION:2.0
PRODID:-//chill - ECPv5.6.0//NONSGML v1.0//EN
CALSCALE:GREGORIAN
METHOD:PUBLISH
X-WR-CALNAME:chill
X-ORIGINAL-URL:https://chilljyo.jp
X-WR-CALDESC:chill のイベント
BEGIN:VTIMEZONE
TZID:Asia/Tokyo
BEGIN:STANDARD
TZOFFSETFROM:+0900
TZOFFSETTO:+0900
TZNAME:JST
DTSTART:20210101T000000
END:STANDARD
END:VTIMEZONE
BEGIN:VEVENT
DTSTART;TZID=Asia/Tokyo:20211017T130000
DTEND;TZID=Asia/Tokyo:20211017T143000
DTSTAMP:20260426T084229
CREATED:20210929T025737Z
LAST-MODIFIED:20210929T025737Z
UID:7151-1634475600-1634481000@chilljyo.jp
SUMMARY:【SCHOOL X第6弾】はじめてのクラフトコーラづくり　
DESCRIPTION:SCHOOL X第6弾！「はじめてのクラフトコーラづくり」 \n  \n \n  \n管理栄養士ユニット monalabo／モナラボによるクラフトコーラシロップ作りのワークショップです。\nコーラって、何でできているの？自分で作れるの？意外と簡単に作れるオリジナルのクラフトコーラシロップを作ってみましょう。 \nまた、コーラの材料であるスパイスや、お砂糖の選び方などの知識も学べます♪ \n  \n【日時】\n10月17日(日)13:00-14:00 \n  \n【講師】\nmonalabo/モナラボ \n  \n \n矢田規子（管理栄養士、フードコーディネーター @yada_noriko) \n  \n \n田月舞（管理栄養士） \n  \n【対象】\n小4以上の場合、お1人でのご参加も可\n大人の方のみのご参加も大歓迎です。\n（小3以下の方は保護者の方とご一緒にご受講ください。） \n  \n【定員】 \n10名 \n  \n【参加費】 \n無料 \n【材料費】\n1500円\nクラフトコーラの試飲あり。\n作ったシロップはお持ち帰りいただけます。 \n  \n【お申込み】\nCHILL公式LINE ( @373ytdgr )で以下をお伝えください。\n保護者のお名前\nご希望のスクール名（今回のスクールは「はじめてのクラフトコーラづくり」です）\nご参加人数（親子参加の場合、作りたい数をお知らせください）\nお子様のお名前・ふりがな・学年 \n  \n【持ち物】\nマスク\nハンドタオル\n必要な方はエプロン \n  \n【注意事項】\nカセットコンロを使用します。\nお子様が参加される場合は、ご理解の上ご参加くださいます様お願い致します。 \n  \n【場所】\nCHILL 1F（ボタニカルガーデン） \n  \n【感染症対策について】\n会場スタッフは手指消毒、体温測定、マスクの着用、会場の換気など感染症対策をしてお待ちしております。\n当日は入口での手指消毒、体温測定にご協力ください。\nなお、前日までの1週間の間に以下の症状がある方は、参加をお控えいただく場合がございます。ご遠慮なくお申し出くださいませ。\n・37.5度以上の発熱があった場合\n・咳をしていたり、倦怠感、味覚障害を少しでも感じた場合 \n・新型コロナウイルス感染症の影響を鑑みて、中止・延期する場合があります。 \n  \n  \n【SCHOOL Xとは…？】 \n誰もが気軽に受けられる、CHILLにある学校です。\n単位や受講資格などはなく、大人でも子供でも、誰もが受けたい授業に申し込む事が出来ます。\nCHILLのテーマである”食とアートと音と映像”のコンテンツに関わる方が沢山おります。\nそういった方々が、自分の生活が少しだけ豊かになれるように。という視点で授業を行いますので、一般的な授業の様な座学とは少し異なります。 \n受講する方によって、持って帰る経験値や知識や考え方がバラバラでも様々でも、良いと思っています。\nSCHOOL XのXは、そう言った意味から来ています。\nCHILLに来てくれる方々の生活が、少しでも豊かになって欲しいと願って、この学校を開校することにしました。
URL:https://chilljyo.jp/event/%e3%80%90school-x%e7%ac%ac6%e5%bc%be%e3%80%91%e3%81%af%e3%81%98%e3%82%81%e3%81%a6%e3%81%ae%e3%82%af%e3%83%a9%e3%83%95%e3%83%88%e3%82%b3%e3%83%bc%e3%83%a9%e3%81%a5%e3%81%8f%e3%82%8a%e3%80%80/
CATEGORIES:SCHOOLX
END:VEVENT
END:VCALENDAR