BEGIN:VCALENDAR
VERSION:2.0
PRODID:-//chill - ECPv5.6.0//NONSGML v1.0//EN
CALSCALE:GREGORIAN
METHOD:PUBLISH
X-WR-CALNAME:chill
X-ORIGINAL-URL:https://chilljyo.jp
X-WR-CALDESC:chill のイベント
BEGIN:VTIMEZONE
TZID:Asia/Tokyo
BEGIN:STANDARD
TZOFFSETFROM:+0900
TZOFFSETTO:+0900
TZNAME:JST
DTSTART:20210101T000000
END:STANDARD
END:VTIMEZONE
BEGIN:VEVENT
DTSTART;TZID=Asia/Tokyo:20211105T160000
DTEND;TZID=Asia/Tokyo:20211105T173000
DTSTAMP:20260426T051215
CREATED:20211018T140505Z
LAST-MODIFIED:20211018T140733Z
UID:7606-1636128000-1636133400@chilljyo.jp
SUMMARY:【SCHOOL X第8弾】大人も子どもも楽しめる”切り絵教室”
DESCRIPTION:SCHOOL X第8弾！大人も子どもも楽しめる”切り絵教室” \n  \n武蔵新城で「こまちや もも鍼灸院」を開業している傍ら、型紙彫刻 切り絵作家のプロとして活動されているモモさんが、今回は初心者でも簡単にできる切り絵教室を開いてくれます！\n切り絵ってどういうもの？知ってるけどやったことがないという皆さんに、切り絵の魅力をお伝えします。\n難易度別に分けてチャレンジできますので親子で挑戦でも1人で挑戦も可能です。新しい趣味を作ってみませんか？\nご用意した中から、お好きなデザインを選んでいただきます。\n黒猫モモによる実演パフォーマンスもご覧いただけます！ \n  \n\n\n		\n		\n			\n				\n			\n			\n				\n			\n		\n\n\n  \n【日時】\n11月5日(金)16:00-17:30 \n  \n【講師】 \n  \n黒猫モモ(HP) \n  \n \n【対象】\n小4以上の場合、お1人でのご参加も可\n大人の方のみのご参加も大歓迎です。\n（小3以下の方は保護者の方とご一緒にご受講ください。作りたい作品の数ごとに材料費がかかります。親子でおひとつの制作でも構いません。） \n  \n【定員】 \n10名 \n  \n【参加費】 \n無料 \n【材料費】\n2\,000円（道具代込） \n  \n【お申込み】\nCHILL公式LINE ( @373ytdgr )で以下をお伝えください。\n◎お名前、ふりがな \n◎お子様の場合、保護者のお名前、学年 \n◎ご希望のスクール名（今回のスクールは「大人も子どもも楽しめる切り絵教室」です）\n◎ご参加人数（親子参加の場合、作りたい数をお知らせください）\n◎お電話番号 \n◎この教室を知ったきっかけ \n  \n【持ち物】\nなし\n（マスクをご着用ください） \n  \n【注意事項】\nデザインナイフという特殊なナイフを使用します。\n講師も気をつけますが、万が一の怪我などは全て参加ご家族による自己責任となりますので、ご理解の上、ご参加くださいませ \n  \n【場所】\nCHILL 3F（フードラウンジ） \n  \nフードラウンジは21:00(20:00L.O)まで営業しておりますので、クラス中にお茶をしたり、クラス前後にお食事も可能です。 \nお子様がご参加の場合、保護者様が別のテーブルでお食事することも可能です。 \n  \n【感染症対策について】\n会場スタッフは手指消毒、体温測定、マスクの着用、会場の換気など感染症対策をしてお待ちしております。\n当日は入口での手指消毒、体温測定にご協力ください。\nなお、前日までの1週間の間に以下の症状がある方は、参加をお控えいただく場合がございます。ご遠慮なくお申し出くださいませ。\n・37.5度以上の発熱があった場合\n・咳をしていたり、倦怠感、味覚障害を少しでも感じた場合 \n・新型コロナウイルス感染症の影響を鑑みて、中止・延期する場合があります。 \n  \n  \n【SCHOOL Xとは…？】 \n誰もが気軽に受けられる、CHILLにある学校です。\n単位や受講資格などはなく、大人でも子供でも、誰もが受けたい授業に申し込む事が出来ます。\nCHILLのテーマである”食とアートと音と映像”のコンテンツに関わる方が沢山おります。\nそういった方々が、自分の生活が少しだけ豊かになれるように。という視点で授業を行いますので、一般的な授業の様な座学とは少し異なります。 \n受講する方によって、持って帰る経験値や知識や考え方がバラバラでも様々でも、良いと思っています。\nSCHOOL XのXは、そう言った意味から来ています。\nCHILLに来てくれる方々の生活が、少しでも豊かになって欲しいと願って、この学校を開校することにしました。
URL:https://chilljyo.jp/event/%e3%80%90school-x%e7%ac%ac8%e5%bc%be%e3%80%91%e5%a4%a7%e4%ba%ba%e3%82%82%e5%ad%90%e3%81%a9%e3%82%82%e3%82%82%e6%a5%bd%e3%81%97%e3%82%81%e3%82%8b%e5%88%87%e3%82%8a%e7%b5%b5%e6%95%99%e5%ae%a4/
CATEGORIES:SCHOOLX
ATTACH;FMTTYPE=image/jpeg:https://chilljyo.jp/wp-content/uploads/2021/10/S__765886477.jpg
END:VEVENT
END:VCALENDAR